BEGIN:VCALENDAR
VERSION:2.0
PRODID:-//wp-events-plugin.com//7.0.4//EN
TZID:America/Kentucky/Louisville
X-WR-TIMEZONE:America/Kentucky/Louisville
BEGIN:VEVENT
UID:637@bsa380.com
DTSTART;TZID=America/Kentucky/Louisville;VALUE=DATE:20250117
DTEND;TZID=America/Kentucky/Louisville;VALUE=DATE:20250120
DTSTAMP:20250109T182511Z
URL:https://bsa380.com/events/klondike-derby/
SUMMARY:CANCELLED - Klondike Derby
DESCRIPTION:UPDATE:  Klondike Derby - CANCELLED - Unfortunately\, the Lea
 der's Guide for the Klondike Derby was not released until very late\, leav
 ing many questions unanswered.  This did not give the Icy Dragons adequat
 e time to plan the event.  Therefore\, we are not participating in the K
 londike Derby and we will not be holding a January event.\n\n&nbsp\;\n\n&n
 bsp\;\n\n&nbsp\;\n\nKlondike Derby January 17-19 2025 at Camp Crooked Cre
 ek\, More information about competition to come.\n\nScout Fee is $25\n\nA
 dult Fee is $10\n\nThe Klondike Derby is a competition based on the sled
  trails of the Klondike. Teams of 6-8 scouts will pull a sled to eight di
 fferent stations to compete in various scouting skills. We will need to de
 sign and build a sled for each team of 6-8 that can be pulled by the scou
 ts. The sleds will need to be packed with gear to complete all the competi
 tions along the sled route. We need signups if you are interested as soon 
 as possible in order to be able to guage commitment to this event. Also to
  give us enough time to design\, build and pack sleds for the competition.
CATEGORIES:Troop Activity
LOCATION:Camp Crooked Creek\, 950 Terry Dr.\, Shepherdsville\, KY\, 40165\,
  United States
X-APPLE-STRUCTURED-LOCATION;VALUE=URI;X-ADDRESS=950 Terry Dr.\, Shepherdsvi
 lle\, KY\, 40165\, United States;X-APPLE-RADIUS=100;X-TITLE=Camp Crooked C
 reek:geo:0,0
END:VEVENT
BEGIN:VTIMEZONE
TZID:America/Kentucky/Louisville
X-LIC-LOCATION:America/Kentucky/Louisville
BEGIN:STANDARD
DTSTART:20241103T010000
TZOFFSETFROM:-0400
TZOFFSETTO:-0500
TZNAME:EST
END:STANDARD
END:VTIMEZONE
END:VCALENDAR