BEGIN:VCALENDAR
VERSION:2.0
PRODID:-//wp-events-plugin.com//7.0.4//EN
TZID:America/Kentucky/Louisville
X-WR-TIMEZONE:America/Kentucky/Louisville
BEGIN:VEVENT
UID:802@bsa380.com
DTSTART;TZID=America/Indiana/Indianapolis;VALUE=DATE:20260417
DTEND;TZID=America/Indiana/Indianapolis;VALUE=DATE:20260420
DTSTAMP:20260410T203907Z
URL:https://bsa380.com/events/koteewi-park-trip/
SUMMARY:Campout Trip @ Cooked Creek
DESCRIPTION:Strawtown Koteewi Park Trip is Cancelled.  Changed to a campou
 t at Camp Crooked Creek
CATEGORIES:Scouting Activity,Troop Activity
LOCATION:Camp Crooked Creek\, 950 Terry Dr.\, Shepherdsville\, KY\, 40165\,
  United States
X-APPLE-STRUCTURED-LOCATION;VALUE=URI;X-ADDRESS=950 Terry Dr.\, Shepherdsvi
 lle\, KY\, 40165\, United States;X-APPLE-RADIUS=100;X-TITLE=Camp Crooked C
 reek:geo:0,0
END:VEVENT
BEGIN:VTIMEZONE
TZID:America/Indiana/Indianapolis
X-LIC-LOCATION:America/Indiana/Indianapolis
BEGIN:DAYLIGHT
DTSTART:20260308T030000
TZOFFSETFROM:-0500
TZOFFSETTO:-0400
TZNAME:EDT
END:DAYLIGHT
END:VTIMEZONE
END:VCALENDAR