BEGIN:VCALENDAR
VERSION:2.0
PRODID:-//wp-events-plugin.com//7.0.4//EN
TZID:America/Kentucky/Louisville
X-WR-TIMEZONE:America/Kentucky/Louisville
BEGIN:VEVENT
UID:803@bsa380.com
DTSTART;TZID=America/Kentucky/Louisville;VALUE=DATE:20260628
DTEND;TZID=America/Kentucky/Louisville;VALUE=DATE:20260704
DTSTAMP:20260217T185343Z
URL:https://bsa380.com/events/summer-camp-2026/
SUMMARY:Summer Camp 2026
DESCRIPTION:
CATEGORIES:Summer Camp
LOCATION:Camp Crooked Creek\, 950 Terry Drive\, Shepherdsville\, KY\, 40165
 \, United States
X-APPLE-STRUCTURED-LOCATION;VALUE=URI;X-ADDRESS=950 Terry Drive\, Shepherds
 ville\, KY\, 40165\, United States;X-APPLE-RADIUS=100;X-TITLE=Camp Crooked
  Creek:geo:0,0
END:VEVENT
BEGIN:VTIMEZONE
TZID:America/Kentucky/Louisville
X-LIC-LOCATION:America/Kentucky/Louisville
BEGIN:DAYLIGHT
DTSTART:20260308T030000
TZOFFSETFROM:-0500
TZOFFSETTO:-0400
TZNAME:EDT
END:DAYLIGHT
END:VTIMEZONE
END:VCALENDAR