BEGIN:VCALENDAR
VERSION:2.0
PRODID:-//wp-events-plugin.com//7.0.4//EN
TZID:America/Kentucky/Louisville
X-WR-TIMEZONE:America/Kentucky/Louisville
BEGIN:VEVENT
UID:173@bsa380.com
DTSTART;TZID=America/Kentucky/Louisville;VALUE=DATE:20220610
DTEND;TZID=America/Kentucky/Louisville;VALUE=DATE:20220613
DTSTAMP:20220523T020449Z
URL:https://bsa380.com/events/via-ferrata-2022/
SUMMARY:Via Ferrata
DESCRIPTION:
CATEGORIES:Troop Activity
END:VEVENT
BEGIN:VTIMEZONE
TZID:America/Kentucky/Louisville
X-LIC-LOCATION:America/Kentucky/Louisville
BEGIN:DAYLIGHT
DTSTART:20220313T030000
TZOFFSETFROM:-0500
TZOFFSETTO:-0400
TZNAME:EDT
END:DAYLIGHT
END:VTIMEZONE
END:VCALENDAR